##############################################################################
#                                                                            #
# Cl-Rh            # RhCl3                                         #  541765 #
#                                                                            #
##############################################################################

data_541765
_audit_creation_date                     2024-10-08
_audit_creation_method

# Entry summary

_chemical_formula_structural             'Rh Cl~3~'
_chemical_formula_sum                    'Cl3 Rh'
_chemical_name_mineral                   ?
_chemical_compound_source                ?
_chemical_name_structure_type            AlCl₃,mS16,12
_chemical_formula_weight                 209.3

# Bibliographic data

_publ_section_title
'Die Kristallstruktur von Rhodium(III)-Chlorid'                               
_journal_coden_ASTM                      JCOMAH
_journal_name_full                       'J. Less-Common Met.'
_journal_year                            1964
_journal_volume                          6
_journal_page_first                      226
_journal_page_last                       231
_journal_language                        German
loop_
 _publ_author_name
 _publ_author_address
'Barnighausen H.'
;
Freiburg Albert Ludwig University
Chemisches Laboratorium
Freiburg im Breisgau
Germany
;
'Handa B.K.'
;
Freiburg Albert Ludwig University
Chemisches Laboratorium
Freiburg im Breisgau
Germany
;

# Standardized crystallographic data

_cell_length_a                           5.95
_cell_length_b                           10.3
_cell_length_c                           6.03
_cell_angle_alpha                        90
_cell_angle_beta                         109.2
_cell_angle_gamma                        90
_cell_volume                             348.99
_cell_formula_units_Z                    4
_space_group_IT_number                   12
_space_group_name_H-M_alt                'C 1 2/m 1'
loop_
 _space_group_symop_id
 _space_group_symop_operation_xyz
 1 'x, y, z'
 2 '-x, -y, -z'
 3 '-x, y, -z'
 4 'x, -y, z'
 5 '1/2+x, 1/2+y, z'
 6 '1/2-x, 1/2-y, -z'
 7 '1/2-x, 1/2+y, -z'
 8 '1/2+x, 1/2-y, z'
loop_
 _atom_type_symbol
 Cl
 Rh
loop_
 _atom_site_label
 _atom_site_type_symbol
 _atom_site_symmetry_multiplicity
 _atom_site_Wyckoff_symbol
 _atom_site_fract_x
 _atom_site_fract_y
 _atom_site_fract_z
 _atom_site_occupancy
 Cl2 Cl 8 j 0.25 0.325 0.219 1
 Cl1 Cl 4 i 0.226 0 0.219 1
 Rh Rh 4 g 0 0.167 0 1


_exptl_crystal_colour                    'golden red'
_exptl_crystal_density_meas              3.92
_exptl_crystal_density_diffrn            3.98
_cell_measurement_temperature            ?
_cell_measurement_radiation              'X-rays, Cu Ka'
_cell_measurement_reflns_used            ?
_diffrn_ambient_temperature              ?
_diffrn_measurement_device               'Weissenberg photographs'
_diffrn_measurement_device_type          ?
_diffrn_radiation_type                   'X-rays, Cu Ka'
_diffrn_reflns_number                    ?
_exptl_absorpt_coefficient_mu            ?
_exptl_absorpt_correction_type           ?
_computing_structure_solution            'starting values from the literature'
_refine_ls_number_parameters             ?
_refine_ls_number_reflns                 ?
_refine_ls_R_factor_gt                   ?
_refine_ls_wR_factor_gt                  ?

# End of data set 541765

